BEGIN:VCALENDAR
VERSION:2.0
CALSCALE:GREGORIAN
BEGIN:VEVENT
DTSTAMP:20260423T085716
DTSTART:20260512T180000
DTEND:20260512T220000
SUMMARY:GP Dinner #196 | Regenerative Tech W/Jess Groopman
DESCRIPTION:Event Info: https://www.localwineevents.com/view/event/gp-dinner-196-regenerative-tech-wjess-groopman/1003010
LOCATION:54 Washburn St -- 54 Washburn Street San Francisco, CA 94103
STATUS:CONFIRMED
SEQUENCE:0
TRANSP:OPAQUE
END:VEVENT
END:VCALENDAR
