BEGIN:VCALENDAR
VERSION:2.0
CALSCALE:GREGORIAN
BEGIN:VEVENT
DTSTAMP:20260422T163932
DTSTART:20260512T180000
DTEND:20260512T200000
SUMMARY:St Pete Beach Wine Society - Chile
DESCRIPTION:Event Info: https://www.localwineevents.com/view/event/st-pete-beach-wine-society---chile/1003007
LOCATION:The Hotel Zamora -- 3701 Gulf Boulevard St. Pete Beach, FL 33706
STATUS:CONFIRMED
SEQUENCE:0
TRANSP:OPAQUE
END:VEVENT
END:VCALENDAR
