BEGIN:VCALENDAR
VERSION:2.0
CALSCALE:GREGORIAN
BEGIN:VEVENT
DTSTAMP:20260422T131553
DTSTART:20260512T180000
DTEND:20260512T210000
SUMMARY:Freeman Vineyard  Winery Dinner
DESCRIPTION:Event Info: https://www.localwineevents.com/view/event/freeman-vineyard-winery-dinner/1003004
LOCATION:Selby\'s -- 3001 El Camino Real Redwood City, CA 94061
STATUS:CONFIRMED
SEQUENCE:0
TRANSP:OPAQUE
END:VEVENT
END:VCALENDAR
