BEGIN:VCALENDAR
VERSION:2.0
CALSCALE:GREGORIAN
BEGIN:VEVENT
DTSTAMP:20260422T142958
DTSTART:20260512T183000
DTEND:20260512T213000
SUMMARY:Bordeaux Rendezvous Dinner
DESCRIPTION:Event Info: https://www.localwineevents.com/view/event/bordeaux-rendezvous-dinner/1003002
LOCATION:Quality Bistro -- 120 West 55th Street New York, NY 10019
STATUS:CONFIRMED
SEQUENCE:0
TRANSP:OPAQUE
END:VEVENT
END:VCALENDAR
