BEGIN:VCALENDAR
VERSION:2.0
CALSCALE:GREGORIAN
BEGIN:VEVENT
DTSTAMP:20260423T214524
DTSTART:20260512T190000
DTEND:20260512T210000
SUMMARY:May Wine Tasting   Dinner
DESCRIPTION:Event Info: https://www.localwineevents.com/view/event/may-wine-tasting-dinner/1002997
LOCATION:Uva Wine Bar -- 46 Main Street Plymouth, MA 02360
STATUS:CONFIRMED
SEQUENCE:0
TRANSP:OPAQUE
END:VEVENT
END:VCALENDAR
