BEGIN:VCALENDAR
VERSION:2.0
CALSCALE:GREGORIAN
BEGIN:VEVENT
DTSTAMP:20260423T135959
DTSTART:20260501T180000
DTEND:20260523T210000
SUMMARY:Live Music At Mason Dixon Rest.  Distillery In Gettysburg Every Fri.  Sat
DESCRIPTION:Event Info: https://www.localwineevents.com/view/event/live-music-at-mason-dixon-rest-distillery-in-gettysburg-every-fri-sat/1002996
LOCATION:Mason Dixon Restaurant  Distillery -- 331 E. Water St Gettysburg, PA 17325
STATUS:CONFIRMED
SEQUENCE:0
TRANSP:OPAQUE
END:VEVENT
END:VCALENDAR
