BEGIN:VCALENDAR
VERSION:2.0
CALSCALE:GREGORIAN
BEGIN:VEVENT
DTSTAMP:20260423T135833
DTSTART:20260502T130000
DTEND:20260502T160000
SUMMARY:Rock Stream Winery Dos De Mayo Fest, Sat. May 2nd, Free Admiss.
DESCRIPTION:Event Info: https://www.localwineevents.com/view/event/rock-stream-winery-dos-de-mayo-fest-sat-may-2nd-free-admiss/1002995
LOCATION:Rock Stream Vineyards -- 162 Fir Tree Point Rd Rock Stream, NY 14878
STATUS:CONFIRMED
SEQUENCE:0
TRANSP:OPAQUE
END:VEVENT
END:VCALENDAR
