BEGIN:VCALENDAR
VERSION:2.0
CALSCALE:GREGORIAN
BEGIN:VEVENT
DTSTAMP:20260422T143847
DTSTART:20260509T120000
DTEND:20260509T160000
SUMMARY:Tomasello Winery- Pop Up Sip  Shop
DESCRIPTION:Event Info: https://www.localwineevents.com/view/event/tomasello-winery--pop-up-sip-shop/1002994
LOCATION:Tomasello Winery- Hammonton Vineyard -- 225 North White Horse Pike Hammonton, NJ 08037
STATUS:CONFIRMED
SEQUENCE:0
TRANSP:OPAQUE
END:VEVENT
END:VCALENDAR
