BEGIN:VCALENDAR
VERSION:2.0
CALSCALE:GREGORIAN
BEGIN:VEVENT
DTSTAMP:20260423T141605
DTSTART:20260502T110000
DTEND:20260506T020000
SUMMARY:Cinco De Derby Weekend At Macs Wood Grilled
DESCRIPTION:Event Info: https://www.localwineevents.com/view/event/cinco-de-derby-weekend-at-macs-wood-grilled/1002991
LOCATION:Mac\'s Wood Grilled -- 1801 W. Division St. Chicago, IL 60622
STATUS:CONFIRMED
SEQUENCE:0
TRANSP:OPAQUE
END:VEVENT
END:VCALENDAR
