BEGIN:VCALENDAR
VERSION:2.0
CALSCALE:GREGORIAN
BEGIN:VEVENT
DTSTAMP:20260422T181524
DTSTART:20260425T190000
DTEND:20260516T210000
SUMMARY:Live Music @ Obelisco Estate Winery - Saturday Nights!!!
DESCRIPTION:Event Info: https://www.localwineevents.com/view/event/live-music-obelisco-estate-winery---saturday-nights/1002986
LOCATION:Obelisco Estate Winery - Apple Farm Village Tasting Room -- Hollywood District - 14525 148th Ave NE, Suite 121 Woodinville,, WA 98072
STATUS:CONFIRMED
SEQUENCE:0
TRANSP:OPAQUE
END:VEVENT
END:VCALENDAR
