BEGIN:VCALENDAR
VERSION:2.0
CALSCALE:GREGORIAN
BEGIN:VEVENT
DTSTAMP:20260423T180819
DTSTART:20260523T140000
DTEND:20260523T160000
SUMMARY:Script  Seal Workshop
DESCRIPTION:Event Info: https://www.localwineevents.com/view/event/script-seal-workshop/1002985
LOCATION:Belle Marie Winery -- 26312 Mesa Rock Road, Escondido, CA, United States ESCONDIDO, CA 92026
STATUS:CONFIRMED
SEQUENCE:0
TRANSP:OPAQUE
END:VEVENT
END:VCALENDAR
