BEGIN:VCALENDAR
VERSION:2.0
CALSCALE:GREGORIAN
BEGIN:VEVENT
DTSTAMP:20260422T143841
DTSTART:20260422T110000
DTEND:20260422T133000
SUMMARY:Vineyard Brands South American Portfolio Tasting
DESCRIPTION:Event Info: https://www.localwineevents.com/view/event/vineyard-brands-south-american-portfolio-tasting/1002984
LOCATION:Unidos Wine Bar -- 11830 Ventura Blvd Studio City, CA 90064
STATUS:CONFIRMED
SEQUENCE:0
TRANSP:OPAQUE
END:VEVENT
END:VCALENDAR
