BEGIN:VCALENDAR
VERSION:2.0
CALSCALE:GREGORIAN
BEGIN:VEVENT
DTSTAMP:20260423T181447
DTSTART:20260503T140000
DTEND:20260503T160000
SUMMARY:Wine  Chocolate Pairing Flight Launch Party
DESCRIPTION:Event Info: https://www.localwineevents.com/view/event/wine-chocolate-pairing-flight-launch-party/1002982
LOCATION:Belle Marie Winery -- 26312 Mesa Rock Road, Escondido, CA, United States ESCONDIDO, CA 92026
STATUS:CONFIRMED
SEQUENCE:0
TRANSP:OPAQUE
END:VEVENT
END:VCALENDAR
