BEGIN:VCALENDAR
VERSION:2.0
CALSCALE:GREGORIAN
BEGIN:VEVENT
DTSTAMP:20260423T175940
DTSTART:20260510T100000
DTEND:20260510T170000
SUMMARY:Mother\'s Day
DESCRIPTION:Event Info: https://www.localwineevents.com/view/event/mothers-day/1002981
LOCATION:Lorimar Vineyards  Winery -- 39990 Anza Road Temecula Temecula, CA 92591
STATUS:CONFIRMED
SEQUENCE:0
TRANSP:OPAQUE
END:VEVENT
END:VCALENDAR
