BEGIN:VCALENDAR
VERSION:2.0
CALSCALE:GREGORIAN
BEGIN:VEVENT
DTSTAMP:20260423T175858
DTSTART:20260426T130000
DTEND:20260426T170000
SUMMARY:Spring Spectacular! Wine, Wellness,  Vendor Faire
DESCRIPTION:Event Info: https://www.localwineevents.com/view/event/spring-spectacular-wine-wellness-vendor-faire/1002980
LOCATION:Belle Marie Winery -- 26312 Mesa Rock Road, Escondido, CA, United States ESCONDIDO, CA 92026
STATUS:CONFIRMED
SEQUENCE:0
TRANSP:OPAQUE
END:VEVENT
END:VCALENDAR
