BEGIN:VCALENDAR
VERSION:2.0
CALSCALE:GREGORIAN
BEGIN:VEVENT
DTSTAMP:20260421T215226
DTSTART:20260501T120000
DTEND:20260507T180000
SUMMARY:AniChe Cellars 15th Anniversary Case Sale
DESCRIPTION:Event Info: https://www.localwineevents.com/view/event/aniche-cellars-15th-anniversary-case-sale/1002979
LOCATION:Aniche Cellars -- 71 Little Buck Creek Rd Underwood, WA 98651
STATUS:CONFIRMED
SEQUENCE:0
TRANSP:OPAQUE
END:VEVENT
END:VCALENDAR
