BEGIN:VCALENDAR
VERSION:2.0
CALSCALE:GREGORIAN
BEGIN:VEVENT
DTSTAMP:20260423T141656
DTSTART:20260507T180000
DTEND:20260507T210000
SUMMARY:Lincoln Park Uncorked: An Armitage  Halsted Wine Stroll
DESCRIPTION:Event Info: https://www.localwineevents.com/view/event/lincoln-park-uncorked-an-armitage-halsted-wine-stroll/1002978
LOCATION:Armitage, from Kenmore to Halsted  Halsted, from Armitage to Webster -- Armitage, from Kenmore to Halsted  Halsted, from Armitage to Webster Chicago, IL 60614
STATUS:CONFIRMED
SEQUENCE:0
TRANSP:OPAQUE
END:VEVENT
END:VCALENDAR
