BEGIN:VCALENDAR
VERSION:2.0
CALSCALE:GREGORIAN
BEGIN:VEVENT
DTSTAMP:20260423T173336
DTSTART:20260506T180000
DTEND:20260506T190000
SUMMARY:Wine Education With Chris | French White Wines
DESCRIPTION:Event Info: https://www.localwineevents.com/view/event/wine-education-with-chris-french-white-wines/1002977
LOCATION:Lupi  Iris -- 777 North Van Buren Street Milwaukee, WI 53202
STATUS:CONFIRMED
SEQUENCE:0
TRANSP:OPAQUE
END:VEVENT
END:VCALENDAR
