BEGIN:VCALENDAR
VERSION:2.0
CALSCALE:GREGORIAN
BEGIN:VEVENT
DTSTAMP:20260422T143024
DTSTART:20260508T163000
DTEND:20260508T183000
SUMMARY:May Ros Soire
DESCRIPTION:Event Info: https://www.localwineevents.com/view/event/may-ros-soire/1002974
LOCATION:Private Home -- RSVP for address Manhattan Beach, CA 90266
STATUS:CONFIRMED
SEQUENCE:0
TRANSP:OPAQUE
END:VEVENT
END:VCALENDAR
