BEGIN:VCALENDAR
VERSION:2.0
CALSCALE:GREGORIAN
BEGIN:VEVENT
DTSTAMP:20260423T175858
DTSTART:20260507T180000
DTEND:20260507T210000
SUMMARY:Mom\'s Night Out At Lorimar Winery
DESCRIPTION:Event Info: https://www.localwineevents.com/view/event/moms-night-out-at-lorimar-winery/1002972
LOCATION:Lorimar Winery -- 39990 Anza Rd Temecula, CA 92591
STATUS:CONFIRMED
SEQUENCE:0
TRANSP:OPAQUE
END:VEVENT
END:VCALENDAR
