BEGIN:VCALENDAR
VERSION:2.0
CALSCALE:GREGORIAN
BEGIN:VEVENT
DTSTAMP:20260423T173306
DTSTART:20260504T183000
DTEND:20260504T213000
SUMMARY:Spring Red Wine Dinner
DESCRIPTION:Event Info: https://www.localwineevents.com/view/event/spring-red-wine-dinner/1002971
LOCATION:Lupi  Iris -- 777 North Van Buren Street Milwaukee, WI 53202
STATUS:CONFIRMED
SEQUENCE:0
TRANSP:OPAQUE
END:VEVENT
END:VCALENDAR
