BEGIN:VCALENDAR
VERSION:2.0
CALSCALE:GREGORIAN
BEGIN:VEVENT
DTSTAMP:20260423T173305
DTSTART:20260429T180000
DTEND:20260429T190000
SUMMARY:Wine Education With Chris | Italian White Wines
DESCRIPTION:Event Info: https://www.localwineevents.com/view/event/wine-education-with-chris-italian-white-wines/1002969
LOCATION:Lupi  Iris -- 777 North Van Buren Street Milwaukee, WI 53202
STATUS:CONFIRMED
SEQUENCE:0
TRANSP:OPAQUE
END:VEVENT
END:VCALENDAR
