BEGIN:VCALENDAR
VERSION:2.0
CALSCALE:GREGORIAN
BEGIN:VEVENT
DTSTAMP:20260423T173433
DTSTART:20260427T183000
DTEND:20260427T213000
SUMMARY:Corte Giaccobe Wine Dinner
DESCRIPTION:Event Info: https://www.localwineevents.com/view/event/corte-giaccobe-wine-dinner/1002968
LOCATION:Lupi  Iris -- 777 North Van Buren Street Milwaukee, WI 53202
STATUS:CONFIRMED
SEQUENCE:0
TRANSP:OPAQUE
END:VEVENT
END:VCALENDAR
