BEGIN:VCALENDAR
VERSION:2.0
CALSCALE:GREGORIAN
BEGIN:VEVENT
DTSTAMP:20260423T173335
DTSTART:20260424T173000
DTEND:20260424T223000
SUMMARY:Counter Conversations With Adam | San Domenico
DESCRIPTION:Event Info: https://www.localwineevents.com/view/event/counter-conversations-with-adam-san-domenico/1002967
LOCATION:Lupi  Iris -- 777 North Van Buren Street Milwaukee, WI 53202
STATUS:CONFIRMED
SEQUENCE:0
TRANSP:OPAQUE
END:VEVENT
END:VCALENDAR
