BEGIN:VCALENDAR
VERSION:2.0
CALSCALE:GREGORIAN
BEGIN:VEVENT
DTSTAMP:20260423T173305
DTSTART:20260425T140000
DTEND:20260425T160000
SUMMARY:Sip  Speak With Stella Cantini
DESCRIPTION:Event Info: https://www.localwineevents.com/view/event/sip-speak-with-stella-cantini/1002965
LOCATION:Genisa Wine Bar -- 11 North Main Street Janesville, WI 53545
STATUS:CONFIRMED
SEQUENCE:0
TRANSP:OPAQUE
END:VEVENT
END:VCALENDAR
