BEGIN:VCALENDAR
VERSION:2.0
CALSCALE:GREGORIAN
BEGIN:VEVENT
DTSTAMP:20260423T013900
DTSTART:20260521T173000
DTEND:20260521T203000
SUMMARY:Meet The Farmers: Ten Men Farms
DESCRIPTION:Event Info: https://www.localwineevents.com/view/event/meet-the-farmers-ten-men-farms/1002964
LOCATION:Abreo -- 515 E State St Rockford, IL 61104
STATUS:CONFIRMED
SEQUENCE:0
TRANSP:OPAQUE
END:VEVENT
END:VCALENDAR
