BEGIN:VCALENDAR
VERSION:2.0
CALSCALE:GREGORIAN
BEGIN:VEVENT
DTSTAMP:20260423T013205
DTSTART:20260514T173000
DTEND:20260514T203000
SUMMARY:Miro Wine Dinner
DESCRIPTION:Event Info: https://www.localwineevents.com/view/event/miro-wine-dinner/1002963
LOCATION:Abreo -- 515 E State St Rockford, IL 61104
STATUS:CONFIRMED
SEQUENCE:0
TRANSP:OPAQUE
END:VEVENT
END:VCALENDAR
