BEGIN:VCALENDAR
VERSION:2.0
CALSCALE:GREGORIAN
BEGIN:VEVENT
DTSTAMP:20260423T013931
DTSTART:20260423T173000
DTEND:20260423T203000
SUMMARY:Meet The Farmers: Irish Grove Farms
DESCRIPTION:Event Info: https://www.localwineevents.com/view/event/meet-the-farmers-irish-grove-farms/1002962
LOCATION:Abreo -- 515 E State St Rockford, IL 61104
STATUS:CONFIRMED
SEQUENCE:0
TRANSP:OPAQUE
END:VEVENT
END:VCALENDAR
