BEGIN:VCALENDAR
VERSION:2.0
CALSCALE:GREGORIAN
BEGIN:VEVENT
DTSTAMP:20260423T211522
DTSTART:20260428T140000
DTEND:20260505T151500
SUMMARY:Exploring Italian Wines  A Regional Journey- Weekly
DESCRIPTION:Event Info: https://www.localwineevents.com/view/event/exploring-italian-wines-a-regional-journey--weekly/1002958
LOCATION:Giuseppes Restaurant on Shadow Ridge Rd -- 9002 Shadow Ridge Rd Palm Desert, CA 92211
STATUS:CONFIRMED
SEQUENCE:0
TRANSP:OPAQUE
END:VEVENT
END:VCALENDAR
