BEGIN:VCALENDAR
VERSION:2.0
CALSCALE:GREGORIAN
BEGIN:VEVENT
DTSTAMP:20260423T140957
DTSTART:20260531T130000
DTEND:20260531T160000
SUMMARY:Hidden Gems Wines  Rinds
DESCRIPTION:Event Info: https://www.localwineevents.com/view/event/hidden-gems-wines-rinds/1002954
LOCATION:Beautiful Rind -- 2211 North Milwaukee Avenue Chicago, IL 60647
STATUS:CONFIRMED
SEQUENCE:0
TRANSP:OPAQUE
END:VEVENT
END:VCALENDAR
