BEGIN:VCALENDAR
VERSION:2.0
CALSCALE:GREGORIAN
BEGIN:VEVENT
DTSTAMP:20260423T135843
DTSTART:20260514T183000
DTEND:20260514T213000
SUMMARY:French Wine Dinner At BABYGOLD
DESCRIPTION:Event Info: https://www.localwineevents.com/view/event/french-wine-dinner-at-babygold/1002953
LOCATION:BABYGOLD BARBECUE -- 6613 Roosevelt Rd Berwyn, IL 60402
STATUS:CONFIRMED
SEQUENCE:0
TRANSP:OPAQUE
END:VEVENT
END:VCALENDAR
