BEGIN:VCALENDAR
VERSION:2.0
CALSCALE:GREGORIAN
BEGIN:VEVENT
DTSTAMP:20260422T143146
DTSTART:20260502T180000
DTEND:20260502T200000
SUMMARY:Loudoun Pours To Explore - Viognier  Bordeaux Blends
DESCRIPTION:Event Info: https://www.localwineevents.com/view/event/loudoun-pours-to-explore---viognier-bordeaux-blends/1002951
LOCATION:8 Chains North Winery -- 38593 Daymont Ln Waterford, Virgnia 20197
STATUS:CONFIRMED
SEQUENCE:0
TRANSP:OPAQUE
END:VEVENT
END:VCALENDAR
