BEGIN:VCALENDAR
VERSION:2.0
CALSCALE:GREGORIAN
BEGIN:VEVENT
DTSTAMP:20260423T140921
DTSTART:20260528T190000
DTEND:20260529T201500
SUMMARY:Best In Show: Celebrating American Cheese Month
DESCRIPTION:Event Info: https://www.localwineevents.com/view/event/best-in-show-celebrating-american-cheese-month/1002948
LOCATION:Beautiful Rind -- 2211 North Milwaukee Avenue Chicago, IL 60647
STATUS:CONFIRMED
SEQUENCE:0
TRANSP:OPAQUE
END:VEVENT
END:VCALENDAR
