BEGIN:VCALENDAR
VERSION:2.0
CALSCALE:GREGORIAN
BEGIN:VEVENT
DTSTAMP:20260424T010536
DTSTART:20260425T160000
DTEND:20260425T180000
SUMMARY:Seminar Saturday - Micro Wine Tasting Series Chevre  Loire Valley
DESCRIPTION:Event Info: https://www.localwineevents.com/view/event/seminar-saturday---micro-wine-tasting-series-chevre-loire-valley/1002946
LOCATION:The Spirited Gourmet -- 448 Common Street Belmont, Massachusetts 02478
STATUS:CONFIRMED
SEQUENCE:0
TRANSP:OPAQUE
END:VEVENT
END:VCALENDAR
