BEGIN:VCALENDAR
VERSION:2.0
CALSCALE:GREGORIAN
BEGIN:VEVENT
DTSTAMP:20260422T143115
DTSTART:20260425T150000
DTEND:20260425T180000
SUMMARY:Spring Soiree - Cans, Corks, Cocktails
DESCRIPTION:Event Info: https://www.localwineevents.com/view/event/spring-soiree---cans-corks-cocktails/1002943
LOCATION:Varmax Liquor Pantry -- 16 Putnam Ave. Port Chester, NY 10573
STATUS:CONFIRMED
SEQUENCE:0
TRANSP:OPAQUE
END:VEVENT
END:VCALENDAR
