BEGIN:VCALENDAR
VERSION:2.0
CALSCALE:GREGORIAN
BEGIN:VEVENT
DTSTAMP:20260422T143842
DTSTART:20260511T190000
DTEND:20260511T210000
SUMMARY:Taiwan Farm Dinner Benefitting The Catskills Agrarian Alliance
DESCRIPTION:Event Info: https://www.localwineevents.com/view/event/taiwan-farm-dinner-benefitting-the-catskills-agrarian-alliance/1002940
LOCATION:Win Son -- 159 Graham Avenue Brooklyn, NY 11206
STATUS:CONFIRMED
SEQUENCE:0
TRANSP:OPAQUE
END:VEVENT
END:VCALENDAR
