BEGIN:VCALENDAR
VERSION:2.0
CALSCALE:GREGORIAN
BEGIN:VEVENT
DTSTAMP:20260421T131358
DTSTART:20260511T110000
DTEND:20260511T130000
SUMMARY:Handmade Pasta Making -Fettuccine Alfredo / Spaghetti Marinara @DidYouKadho
DESCRIPTION:Event Info: https://www.localwineevents.com/view/event/handmade-pasta-making--fettuccine-alfredo-spaghetti-marinara-didyoukadho/1002938
LOCATION:45 Front St -- 45 Front Street East Rockaway, NY 11518
STATUS:CONFIRMED
SEQUENCE:0
TRANSP:OPAQUE
END:VEVENT
END:VCALENDAR
