BEGIN:VCALENDAR
VERSION:2.0
CALSCALE:GREGORIAN
BEGIN:VEVENT
DTSTAMP:20260421T144355
DTSTART:20260511T180000
DTEND:20260511T200000
SUMMARY:Crawfords May Mixology Event
DESCRIPTION:Event Info: https://www.localwineevents.com/view/event/crawfords-may-mixology-event/1002936
LOCATION:Crawford\'s Corner Bar  Kitchen -- 200 Madison Street Riverside, NJ 08075
STATUS:CONFIRMED
SEQUENCE:0
TRANSP:OPAQUE
END:VEVENT
END:VCALENDAR
