BEGIN:VCALENDAR
VERSION:2.0
CALSCALE:GREGORIAN
BEGIN:VEVENT
DTSTAMP:20260424T005839
DTSTART:20260511T180000
DTEND:20260511T210000
SUMMARY:Learn To Make A Gateux Aux Fraises From Scratch!
DESCRIPTION:Event Info: https://www.localwineevents.com/view/event/learn-to-make-a-gateux-aux-fraises-from-scratch/1002935
LOCATION:Perch -- 102 Waltham Street Boston, MA 02118
STATUS:CONFIRMED
SEQUENCE:0
TRANSP:OPAQUE
END:VEVENT
END:VCALENDAR
