BEGIN:VCALENDAR
VERSION:2.0
CALSCALE:GREGORIAN
BEGIN:VEVENT
DTSTAMP:20260423T175940
DTSTART:20260511T180000
DTEND:20260511T210000
SUMMARY:Sagamore Spirit | Whiskey Club At The Whiskey House
DESCRIPTION:Event Info: https://www.localwineevents.com/view/event/sagamore-spirit-whiskey-club-at-the-whiskey-house/1002934
LOCATION:The Whiskey House -- 420 Third Avenue San Diego, CA 92101
STATUS:CONFIRMED
SEQUENCE:0
TRANSP:OPAQUE
END:VEVENT
END:VCALENDAR
