BEGIN:VCALENDAR
VERSION:2.0
CALSCALE:GREGORIAN
BEGIN:VEVENT
DTSTAMP:20260421T132519
DTSTART:20260511T180000
DTEND:20260511T200000
SUMMARY:May Tea Blending Workshop
DESCRIPTION:Event Info: https://www.localwineevents.com/view/event/may-tea-blending-workshop/1002929
LOCATION:Friday Afternoon -- 4228 Stone Way North Seattle, WA 98103
STATUS:CONFIRMED
SEQUENCE:0
TRANSP:OPAQUE
END:VEVENT
END:VCALENDAR
