BEGIN:VCALENDAR
VERSION:2.0
CALSCALE:GREGORIAN
BEGIN:VEVENT
DTSTAMP:20260423T105515
DTSTART:20260511T110000
DTEND:20260511T140000
SUMMARY:St Armands Shop, Sip  Stroll
DESCRIPTION:Event Info: https://www.localwineevents.com/view/event/st-armands-shop-sip-stroll/1002925
LOCATION:481 John Ringling Blvd -- 481 John Ringling Boulevard Sarasota, FL 34236
STATUS:CONFIRMED
SEQUENCE:0
TRANSP:OPAQUE
END:VEVENT
END:VCALENDAR
