BEGIN:VCALENDAR
VERSION:2.0
CALSCALE:GREGORIAN
BEGIN:VEVENT
DTSTAMP:20260422T145840
DTSTART:20260511T190000
DTEND:20260511T220000
SUMMARY:MOTHER\'S DAY... Floral Workshop, Wine  Desserts
DESCRIPTION:Event Info: https://www.localwineevents.com/view/event/mothers-day-floral-workshop-wine-desserts/1002921
LOCATION:99 Bottles Taproom  Bottle Shop -- 1445 2nd Street Sarasota, FL 34236
STATUS:CONFIRMED
SEQUENCE:0
TRANSP:OPAQUE
END:VEVENT
END:VCALENDAR
