BEGIN:VCALENDAR
VERSION:2.0
CALSCALE:GREGORIAN
BEGIN:VEVENT
DTSTAMP:20260424T010734
DTSTART:20260511T150000
DTEND:20260511T170000
SUMMARY:Cacio E Pepe
DESCRIPTION:Event Info: https://www.localwineevents.com/view/event/cacio-e-pepe/1002917
LOCATION:9 Via Toscana -- 9 Via Toscana Salem, NH 03079
STATUS:CONFIRMED
SEQUENCE:0
TRANSP:OPAQUE
END:VEVENT
END:VCALENDAR
