BEGIN:VCALENDAR
VERSION:2.0
CALSCALE:GREGORIAN
BEGIN:VEVENT
DTSTAMP:20260422T163926
DTSTART:20260511T183000
DTEND:20260511T203000
SUMMARY:Mezcal Tasting And Food Pairing
DESCRIPTION:Event Info: https://www.localwineevents.com/view/event/mezcal-tasting-and-food-pairing/1002916
LOCATION:Casa Tina Fresh, Healthy, Authentic Mexican, Main Street, Dunedin, FL, USA -- 365 Main Street Dunedin, FL 34698
STATUS:CONFIRMED
SEQUENCE:0
TRANSP:OPAQUE
END:VEVENT
END:VCALENDAR
