BEGIN:VCALENDAR
VERSION:2.0
CALSCALE:GREGORIAN
BEGIN:VEVENT
DTSTAMP:20260423T141711
DTSTART:20260511T190000
DTEND:20260511T210000
SUMMARY:Learn The Essentials Of Homemade Sushi - Sushi Making Cooking Class In Chicago | Classpop!
DESCRIPTION:Event Info: https://www.localwineevents.com/view/event/learn-the-essentials-of-homemade-sushi---sushi-making-cooking-class-in-chicago-classpop/1002915
LOCATION:Illuminated Brew Works -- 6186 N Northwest Hwy Chicago, IL 60631
STATUS:CONFIRMED
SEQUENCE:0
TRANSP:OPAQUE
END:VEVENT
END:VCALENDAR
