BEGIN:VCALENDAR
VERSION:2.0
CALSCALE:GREGORIAN
BEGIN:VEVENT
DTSTAMP:20260421T132625
DTSTART:20260511T130000
DTEND:20260511T160000
SUMMARY:Mother\'s Day Pairing - Barnard Griffin Woodinville
DESCRIPTION:Event Info: https://www.localwineevents.com/view/event/mothers-day-pairing---barnard-griffin-woodinville/1002911
LOCATION:Barnard Griffin - Woodinville -- 17401 133rd Avenue Northeast Woodinville, WA 98072
STATUS:CONFIRMED
SEQUENCE:0
TRANSP:OPAQUE
END:VEVENT
END:VCALENDAR
