BEGIN:VCALENDAR
VERSION:2.0
CALSCALE:GREGORIAN
BEGIN:VEVENT
DTSTAMP:20260422T145800
DTSTART:20260429T170000
DTEND:20260429T190000
SUMMARY:Finger Lakes Winemaker Tasting With Buttonwood Grove  Six Eighty Cellars
DESCRIPTION:Event Info: https://www.localwineevents.com/view/event/finger-lakes-winemaker-tasting-with-buttonwood-grove-six-eighty-cellars/1002910
LOCATION:Wine Solutions, LLC -- 200 Trans Air Drive Morrisville, NC 27560
STATUS:CONFIRMED
SEQUENCE:0
TRANSP:OPAQUE
END:VEVENT
END:VCALENDAR
