BEGIN:VCALENDAR
VERSION:2.0
CALSCALE:GREGORIAN
BEGIN:VEVENT
DTSTAMP:20260422T145841
DTSTART:20260425T130000
DTEND:20260425T163000
SUMMARY:Intimate Brunello Winemaker Class  Tasting
DESCRIPTION:Event Info: https://www.localwineevents.com/view/event/intimate-brunello-winemaker-class-tasting/1002904
LOCATION:Wine Solutions, LLC -- 200 Trans Air Drive Morrisville, NC 27560
STATUS:CONFIRMED
SEQUENCE:0
TRANSP:OPAQUE
END:VEVENT
END:VCALENDAR
