BEGIN:VCALENDAR
VERSION:2.0
CALSCALE:GREGORIAN
BEGIN:VEVENT
DTSTAMP:20260421T083338
DTSTART:20260424T183000
DTEND:20260508T213000
SUMMARY:Live Music In The Cellar  With The Talented Don L.
DESCRIPTION:Event Info: https://www.localwineevents.com/view/event/live-music-in-the-cellar-with-the-talented-don-l/1002901
LOCATION:Negociant Winery and Event Space in Hillcrest -- 1263 University Avenue San Diego, Ca 92103
STATUS:CONFIRMED
SEQUENCE:0
TRANSP:OPAQUE
END:VEVENT
END:VCALENDAR
